BEGIN:VCALENDAR
VERSION:2.0
CALSCALE:GREGORIAN
PRODID:adamgibbons/ics
METHOD:PUBLISH
X-PUBLISHED-TTL:PT1H
BEGIN:VEVENT
UID:2365@devent.cz
SUMMARY:Critical Mass Bonn
DTSTAMP:20260424T195950Z
DTSTART:20260529T160000Z
DTEND:20260529T180000Z
DESCRIPTION:Hallo zusammen!\n\nSeid herzlich eingeladen zur nächsten Critic
	al Mass in Bonn! Wir treffen uns\nimmer am letzten Freitag im Monat um 18 
	Uhr am Hofgarten (vor dem Akademischen\nKunstmuseum) und starten von dort 
	zu einer ca. zweistündigen Tour quer durch die\nStadt.\n\nDie Fahrt ist ei
	ne entspannte und sichere Tour in einer geschlossenen Gruppe\,\nbegleitet 
	von der Polizei. Dabei wollen wir auf den Radverkehr als wichtige Form\nde
	s Individualverkehrs aufmerksam machen und für eine bessere\nFahrradinfras
	truktur demonstrieren. Am Ende unserer Fahrt kehren wir meistens am\nAlten
	 Zoll ein\, wo wir den Abend bei Getränken und geretteten Lebensmitteln in
	\ngemütlicher Runde ausklingen lassen.\n\nGenauere Infos zur nächsten Crit
	ical Mass werden auf\nhttps://www.instagram.com/criticalmass_bonn/?hl=de\n
	[https://www.instagram.com/criticalmass_bonn/?hl=de] veröffentlicht.\n\nKo
	mmt vorbei\, schnappt euch euer Fahrrad und radelt mit uns – wir freuen un
	s auf\neuch!
URL:https://devent.cz/event/critical-mass-bonn-1
GEO:50.7311;7.10464
LOCATION:Bonn\, Hofgarten - Südstadt\, Stadtbezirk Bonn\, Bonn\, Nordrhein-
	Westfalen\, 53113\, Deutschland
STATUS:CONFIRMED
CATEGORIES:Bonn,Bonnjetzt
X-ALT-DESC;FMTTYPE=text/html:<p>Hallo zusammen!</p><p>Seid herzlich eingela
	den zur nächsten Critical Mass in Bonn! Wir treffen uns immer am letzten F
	reitag im Monat um 18 Uhr am Hofgarten (vor dem Akademischen Kunstmuseum) 
	und starten von dort zu einer ca. zweistündigen Tour quer durch die Stadt.
	</p><p>Die Fahrt ist eine entspannte und sichere Tour in einer geschlossen
	en Gruppe, begleitet von der Polizei. Dabei wollen wir auf den Radverkehr 
	als wichtige Form des Individualverkehrs aufmerksam machen und für eine be
	ssere Fahrradinfrastruktur demonstrieren. Am Ende unserer Fahrt kehren wir
	 meistens am Alten Zoll ein, wo wir den Abend bei Getränken und geretteten
	 Lebensmitteln in gemütlicher Runde ausklingen lassen.<br><br>Genauere Inf
	os zur nächsten Critical Mass werden auf <a href="https://www.instagram.co
	m/criticalmass_bonn/?hl=de" target="_blank">https://www.instagram.com/crit
	icalmass_bonn/?hl=de</a> veröffentlicht.</p><p>Kommt vorbei, schnappt euch
	 euer Fahrrad und radelt mit uns – wir freuen uns auf euch!</p>
BEGIN:VALARM
ACTION:DISPLAY
DESCRIPTION:Critical Mass Bonn
TRIGGER:-PT1H
END:VALARM
END:VEVENT
END:VCALENDAR
