BEGIN:VCALENDAR
VERSION:2.0
CALSCALE:GREGORIAN
PRODID:adamgibbons/ics
METHOD:PUBLISH
X-PUBLISHED-TTL:PT1H
BEGIN:VEVENT
UID:2349@devent.cz
SUMMARY:Green Resistance Pop III.
DTSTAMP:20260422T141128Z
DTSTART:20260501T080000Z
DTEND:20260501T170000Z
DESCRIPTION:První akcičkou Kampaně proti oligarchizaci je náš už tradiční f
	estival Green\nResistance Pop!!\n\nLetos se opět potkáme na svátek práce 1
	.5. a to v Olomouci ve Skauťáku na\nDolňáku\n\n\nAfterparty v Kateřinské 1
	0: vstupné dobrovolné\n\nLineup (ještě bude upřesněn)\nRudy Daddy a Vibe V
	illain\nMartin Čmelík\nEda a Elulu\nDJ Marzipan\n\n19:00 - 2:00\n\nVstup v
	olný\n\nAbychom se jako levice mohlx spojovat a společně bojovat proti oli
	garchii\,\npotřebujeme k tomu prostor. Green Resistance Pop bude jedním z 
	takových\nprostorů. Místem pro diskuzi\, pro aktivizaci a pro propojování 
	se. Čeká nás den\nplný debat\, promítání\, workshopů\, ale taky hudby a sp
	olečného veselí.\n\nTěšíme se na tebe už brzo v Olomouci\n\nZa grafiku moc
	 moc děkujeme @agnes\n\nUdálost pořádají Mladí zelení
URL:https://devent.cz/event/green-resistance-pop-iii
LOCATION:Skautský institut v Olomouci - Dolní náměstí 109/29\, 779 00 Olomo
	uc\, Česko
STATUS:CONFIRMED
CATEGORIES:hudba,Olomouc,Workshop,promítání,aktivizace,propojování se
X-ALT-DESC;FMTTYPE=text/html:<p>První akcičkou Kampaně proti oligarchizaci 
	je náš už tradiční festival <strong>Green Resistance Pop</strong>!!</p><p>
	Letos se opět potkáme na svátek práce <strong>1.5. a to v Olomouci ve Skau
	ťáku na Dolňáku</strong> <br></p><p><strong>Afterparty v Kateřinské 10: vs
	tupné dobrovolné</strong></p><p><strong>Lineup (ještě bude upřesněn)<br>Ru
	dy Daddy a Vibe Villain<br>Martin Čmelík<br>Eda a Elulu<br>DJ Marzipan</st
	rong></p><p><strong>19:00 - 2:00</strong></p><p><strong>Vstup volný</stron
	g></p><p>Abychom se jako levice mohlx spojovat a společně bojovat proti ol
	igarchii, potřebujeme k tomu prostor. Green Resistance Pop bude jedním z t
	akových prostorů. Místem pro diskuzi, pro aktivizaci a pro propojování se.
	 Čeká nás den plný debat, promítání, workshopů, ale taky hudby a společnéh
	o veselí.</p><p><strong>Těšíme se na tebe už brzo v Olomouci</strong></p><
	p>Za grafiku moc moc děkujeme @agnes</p><p>Událost pořádají Mladí zelení</
	p>
BEGIN:VALARM
ACTION:DISPLAY
DESCRIPTION:Green Resistance Pop III.
TRIGGER:-PT1H
END:VALARM
END:VEVENT
END:VCALENDAR
