BEGIN:VCALENDAR
VERSION:2.0
CALSCALE:GREGORIAN
PRODID:adamgibbons/ics
METHOD:PUBLISH
X-PUBLISHED-TTL:PT1H
BEGIN:VEVENT
UID:2325@devent.cz
SUMMARY:Je Česko na prodej? Debata o oligarchizaci státu
DTSTAMP:20260420T002636Z
DTSTART:20260504T160000Z
DTEND:20260504T180000Z
DESCRIPTION:Už 4. 5. od 18:00 pořádá Institut PI debatu o oligarchii s názv
	em Je Česko na\nprodej?\n\n📍 Debata se uskuteční v podniku Kafe a Hrnky (N
	erudova 244/25\, Praha).\n\n👥 Hosty debaty jsou:\n\nKateřina Stojanová\, p
	irátská poslankyně\nOndřej Lánský z Akademie věd\nRadek Kubala z platformy
	 Reset\n\n🎯 Cílem debaty je nabídnout odbornou a analytickou reflexi témat
	u oligarchie v\nčeském kontextu – zejména mechanismů koncentrace moci\, pr
	opojení ekonomických a\npolitických struktur a jejich dopadů na fungování 
	demokratického státu.\n\nDiskuse se zároveň zaměří na to\, jak se tyto pro
	cesy proměňují v souvislosti se\nsoučasnou vládou a jaké nástroje mohou př
	ispět k jejich vyvažování či omezení
URL:https://devent.cz/event/je-cesko-na-prodej-debata-o-oligarchizaci-statu
LOCATION:Kafe & Hrnky - Nerudova 244/25\, Praha 1
STATUS:CONFIRMED
CATEGORIES:Praha,debata
X-ALT-DESC;FMTTYPE=text/html:<p>Už 4. 5. od 18:00 pořádá Institut PI debatu
	 o oligarchii s názvem Je Česko na prodej?</p><p>📍 Debata se uskuteční v p
	odniku Kafe a Hrnky (Nerudova 244/25, Praha).</p><p>👥 Hosty debaty jsou:</
	p><p>Kateřina Stojanová, pirátská poslankyně<br>Ondřej Lánský z Akademie v
	ěd<br>Radek Kubala z platformy Reset</p><p>🎯 Cílem debaty je nabídnout odb
	ornou a analytickou reflexi tématu oligarchie v českém kontextu – zejména 
	mechanismů koncentrace moci, propojení ekonomických a politických struktur
	 a jejich dopadů na fungování demokratického státu.</p><p>Diskuse se zárov
	eň zaměří na to, jak se tyto procesy proměňují v souvislosti se současnou 
	vládou a jaké nástroje mohou přispět k jejich vyvažování či omezení</p>
BEGIN:VALARM
ACTION:DISPLAY
DESCRIPTION:Je Česko na prodej? Debata o oligarchizaci státu
TRIGGER:-PT1H
END:VALARM
END:VEVENT
END:VCALENDAR
