BEGIN:VCALENDAR
VERSION:2.0
CALSCALE:GREGORIAN
PRODID:adamgibbons/ics
METHOD:PUBLISH
X-PUBLISHED-TTL:PT1H
BEGIN:VEVENT
UID:2358@devent.cz
SUMMARY:Landesjugendzirkus - Premiere UNLÖ?BAR - 6 Artistinnen aus Bonn
DTSTAMP:20260423T114429Z
DTSTART:20260426T130000Z
DTEND:20260426T143000Z
DESCRIPTION:Unter der Leitung der Choreografin Lisa Graff entwickelten sech
	s Artistinnen aus\nBonn und Umgebung im Rahmen der diesjährigen Produktion
	 der Compagnie\nCircolution\, Landesjugendzirkus NRW\, eine bewegende Show
	.\n\nIn dieser werden verschiedene Disziplinen aus Tanz\, Zirkus und Theat
	er zu einer\nzeitgenössischen Performance verbunden.\n\n"Ich bin mehr als 
	das\, was ich nicht schaffe.\nEs gibt Fragen\, die kaum zu beantworten sin
	d.\nJeder stellt sie sich und doch scheinen sie oft unlösbar.\nDiese Frage
	n beschäftigen uns\, bewegen uns und lassen uns nicht mehr los..."\n\nEint
	ritt frei\, Spenden erbeten
URL:https://devent.cz/event/landesjugendzirkus-premiere-unlobar-6-artistinn
	en-aus-bonn
GEO:50.727;7.10175
LOCATION:Clara-Schumann-Gymnasium Aula - 14\, Loestraße\, Südstadt\, Stadtb
	ezirk Bonn\, Bonn\, Nordrhein-Westfalen\, 53113\, Deutschland
STATUS:CONFIRMED
CATEGORIES:Bonn,Bonnjetzt,performance,Tanz,Landesjugendzirkus,Theater,Zirku
	s
X-ALT-DESC;FMTTYPE=text/html:<p>Unter der Leitung der Choreografin Lisa Gra
	ff entwickelten sechs Artistinnen aus Bonn und Umgebung im Rahmen der dies
	jährigen Produktion der Compagnie Circolution, Landesjugendzirkus NRW, ein
	e bewegende Show. </p><p>In dieser werden verschiedene Disziplinen aus Tan
	z, Zirkus und Theater zu einer zeitgenössischen Performance verbunden.</p>
	<p>"Ich bin mehr als das, was ich nicht schaffe.<br>Es gibt Fragen, die ka
	um zu beantworten sind.<br>Jeder stellt sie sich und doch scheinen sie oft
	 unlösbar.<br>Diese Fragen beschäftigen uns, bewegen uns und lassen uns ni
	cht mehr los..."</p><p>Eintritt frei, Spenden erbeten</p>
BEGIN:VALARM
ACTION:DISPLAY
DESCRIPTION:Landesjugendzirkus - Premiere UNLÖ?BAR - 6 Artistinnen aus Bonn
TRIGGER:-PT1H
END:VALARM
END:VEVENT
END:VCALENDAR
