BEGIN:VCALENDAR
VERSION:2.0
CALSCALE:GREGORIAN
PRODID:adamgibbons/ics
METHOD:PUBLISH
X-PUBLISHED-TTL:PT1H
BEGIN:VEVENT
UID:2352@devent.cz
SUMMARY:Na bylinky: městská divočina léčí
DTSTAMP:20260422T164539Z
DTSTART:20260514T120000Z
DTEND:20260514T180000Z
DESCRIPTION:🍀 Je jaro! Vyražte s námi na procházku brněnskou městskou divoč
	inou a pojďte\nspolu s námi objevit\, jaké byliny touto dobou rostou a jak
	é mají využití.\n🌺 Povíme si\, jak a kdy byliny sbírat\, jak je rozeznat\,
	 a ukážeme si\, které\nbyliny se dají sníst a které naopak vůbec.\n⚗️ Kromě
	 zážitků a poznatků si budete moci domů odnést právě i bylinkovou\nvzpomín
	ku v podobě hydrolátu nebo tinktury. \n\nKdy: čtvrtek 14.5.2026\, 14:00-20
	:00\nSraz: zastávka MHD Šárka v Kohoutovicích  [https://mapy.com/s/honacer
	ofo]\n\nPřihlášovací formulář: https://forms.gle/TjzEJ1SVtGm7sMmF7\n[https
	://forms.gle/TjzEJ1SVtGm7sMmF7]
URL:https://devent.cz/event/na-bylinky-mestska-divocina-leci
LOCATION:sraz: zastávka MHD Šárka v Brně-Kohoutovicích - GPS: 49.191298\, 1
	6.545931
STATUS:CONFIRMED
CATEGORIES:
X-ALT-DESC;FMTTYPE=text/html:<p>🍀 Je jaro! Vyražte s námi na procházku brně
	nskou městskou divočinou a pojďte spolu s námi objevit, jaké byliny touto 
	dobou rostou a jaké mají využití.<br>🌺 Povíme si, jak a kdy byliny sbírat,
	 jak je rozeznat, a ukážeme si, které byliny se dají sníst a které naopak 
	vůbec.<br>⚗️ Kromě zážitků a poznatků si budete moci domů odnést právě i by
	linkovou vzpomínku v podobě hydrolátu nebo tinktury.&nbsp;</p><p>Kdy: čtvr
	tek 14.5.2026, 14:00-20:00<br>Sraz:&nbsp;<a href="https://mapy.com/s/honac
	erofo" target="_blank">zastávka MHD Šárka v Kohoutovicích&nbsp;</a></p><p>
	Přihlášovací formulář:&nbsp;<a href="https://forms.gle/TjzEJ1SVtGm7sMmF7" 
	target="_blank">https://forms.gle/TjzEJ1SVtGm7sMmF7</a></p>
BEGIN:VALARM
ACTION:DISPLAY
DESCRIPTION:Na bylinky: městská divočina léčí
TRIGGER:-PT1H
END:VALARM
END:VEVENT
END:VCALENDAR
