BEGIN:VCALENDAR
VERSION:2.0
CALSCALE:GREGORIAN
PRODID:adamgibbons/ics
METHOD:PUBLISH
X-PUBLISHED-TTL:PT1H
BEGIN:VEVENT
UID:2350@devent.cz
SUMMARY:Punctum Film Club #5: DIY short films
DTSTAMP:20260422T151518Z
DTSTART:20260517T170000Z
DTEND:20260517T200000Z
DESCRIPTION:This edition of PFC presents short films with DIY approach to f
	ilmmaking:\n01:26:54\, a collaboration between anarchist collectives from 
	Thessaloniki\;\nMomentument by Prague collective Object Paradise and direc
	tor Tyko Say\; and\n23:23 (Život jedna báseň\, není peříčko) by Czech dire
	ctor Kateřina Dudová.\n\n23:23 (Život jedna báseň\, není peříčko\, 2024\, 
	Prague\, Czechia)\nWe all perceive poetry differently. For some\, a poem i
	s a rhyming text\, for\nothers a metaphysical experience. For director Kat
	eřina Dudová\, it is an\nexperiment with three people who are close to her
	\, whom she places in one room\nfor three days\, leaving them to their fat
	e with the task of writing a poem.\nSometimes the recording of real events
	 is more poetic than the poem itself.\n\n“I was given the task of making a
	 'film poem'\, but I hate poems\, so I'm looking\nfor something… the feeli
	ng I want to get from poetry\, how I feel. What is a\npoem?” – Kateřina Du
	dová\n23mins\, CZ with EN subs\nDirected by Kateřina Dudová\n\nOBJECT:PRAH
	A IV : Momentument (2025\, Prague\, Czechia)\nIf you could paint a state o
	f mind\, would that be art\, or just a moment?\nMomentument is a 30-minute
	 documentary exploring public authorship through\ncollective creation & cu
	ration where no one is an artist outside of the\nimmediate moment. Set to 
	the rhythm of the Žižkov underground\, the film is part\nof the OBJECT:PRA
	HA series which aims to celebrate the subjective experience in\ncreating t
	ogether through community happenings\, curations\, and media.\n27mins\, EN
	\nDirected by Tyko Say\n\n01:26:54 (2007\, Thessaloniki\, Greece)\nVasilis
	\, a fanatical film lover and sharp critic\, tries to convince his\nenviro
	nment that Leni Riefenstahl\, the Third Reich's filmmaker\, was an\noverra
	ted\, talentless beast and not a great female pioneer of the 7th art. So h
	e\nputs "Triumph of the Will"\, Riefenstahl's landmark film\, under the mi
	croscope\,\nand tries to discover its aesthetic "errors". Things take an u
	nexpected turn\nwhen he discovers that at 1 hour 26 minutes and 54 seconds
	 into the film…\n\nThis short film was initiated by a group of non-experts
	 (mainly from\nThessaloniki collectives Fabrica Yfanet\, Machina and +tech
	nia-) who were aware\nof their limitations in terms of filmmaking. We expl
	ored this new terrain during\na collectively organized production of 01:26
	:54. Using only basic equipment and\nwithout asking for financial sponsors
	 or permission we would like to believe\nthat we have contributed a short 
	motion picture to one of the most significant\nventures of our times: the 
	fight against the inevitability of absolute order and\ncontrol.\n25mins\, 
	GR with EN subs\n\nVoluntary entry (recommended 100-200)
URL:https://devent.cz/event/punctum-film-club-5-diy-short-films
GEO:50.0838209;14.4467549
LOCATION:Punctum - Krásovka - Krásova 803/27\, Praha 3-Žižkov
STATUS:CONFIRMED
CATEGORIES:Praha,promítání
X-ALT-DESC;FMTTYPE=text/html:<p>This edition of PFC presents short films wi
	th DIY approach to filmmaking: 01:26:54, a collaboration between anarchist
	 collectives from Thessaloniki; Momentument by Prague collective Object Pa
	radise and director Tyko Say; and 23:23 (Život jedna báseň, není peříčko) 
	by Czech director Kateřina Dudová.</p><p>23:23 (Život jedna báseň, není pe
	říčko, 2024, Prague, Czechia)<br>We all perceive poetry differently. For s
	ome, a poem is a rhyming text, for others a metaphysical experience. For d
	irector Kateřina Dudová, it is an experiment with three people who are clo
	se to her, whom she places in one room for three days, leaving them to the
	ir fate with the task of writing a poem. Sometimes the recording of real e
	vents is more poetic than the poem itself.</p><p>“I was given the task of 
	making a 'film poem', but I hate poems, so I'm looking for something… the 
	feeling I want to get from poetry, how I feel. What is a poem?” – Kateřina
	 Dudová<br>23mins, CZ with EN subs<br>Directed by Kateřina Dudová</p><p>OB
	JECT:PRAHA IV : Momentument (2025, Prague, Czechia)<br>If you could paint 
	a state of mind, would that be art, or just a moment? Momentument is a 30-
	minute documentary exploring public authorship through collective creation
	 &amp; curation where no one is an artist outside of the immediate moment.
	 Set to the rhythm of the Žižkov underground, the film is part of the OBJE
	CT:PRAHA series which aims to celebrate the subjective experience in creat
	ing together through community happenings, curations, and media.<br>27mins
	, EN<br>Directed by Tyko Say</p><p>01:26:54 (2007, Thessaloniki, Greece)<b
	r>Vasilis, a fanatical film lover and sharp critic, tries to convince his 
	environment that Leni Riefenstahl, the Third Reich's filmmaker, was an ove
	rrated, talentless beast and not a great female pioneer of the 7th art. So
	 he puts "Triumph of the Will", Riefenstahl's landmark film, under the mic
	roscope, and tries to discover its aesthetic "errors". Things take an unex
	pected turn when he discovers that at 1 hour 26 minutes and 54 seconds int
	o the film…</p><p>This short film was initiated by a group of non-experts 
	(mainly from Thessaloniki collectives Fabrica Yfanet, Machina and +technia
	-) who were aware of their limitations in terms of filmmaking. We explored
	 this new terrain during a collectively organized production of 01:26:54. 
	Using only basic equipment and without asking for financial sponsors or pe
	rmission we would like to believe that we have contributed a short motion 
	picture to one of the most significant ventures of our times: the fight ag
	ainst the inevitability of absolute order and control.<br>25mins, GR with 
	EN subs</p><p>Voluntary entry (recommended 100-200)</p>
BEGIN:VALARM
ACTION:DISPLAY
DESCRIPTION:Punctum Film Club #5: DIY short films
TRIGGER:-PT1H
END:VALARM
END:VEVENT
END:VCALENDAR
