BEGIN:VCALENDAR
VERSION:2.0
CALSCALE:GREGORIAN
PRODID:adamgibbons/ics
METHOD:PUBLISH
X-PUBLISHED-TTL:PT1H
BEGIN:VEVENT
UID:2340@devent.cz
SUMMARY:Scattered Purgatory (Guruguru Brain) / K4LT
DTSTAMP:20260421T165638Z
DTSTART:20260425T170000Z
DTEND:20260425T213000Z
DESCRIPTION:Scattered Purgatory\n\nScattered Purgatory is an experimental p
	roject from Taiwan operating at the\nintersection of noise\, industrial te
	xtures\, and ritual-driven sound. Their work\nunfolds as dense\, immersive
	 compositions that blur the line between\nconfrontation and contemplation.
	\n\nRooted in themes of collapse\, renewal\, and altered states\, the proj
	ect channels\na raw\, almost physical intensity while maintaining a hypnot
	ic undercurrent.\nHarsh sonic fragments collide with repetitive structures
	\, creating a sense of\nmovement that feels both disorienting and meditati
	ve.\n\nBandcamp: https://scatteredpurgatorygggb.bandcamp.com/album/post-pu
	rgatory\n[https://scatteredpurgatorygggb.bandcamp.com/album/post-purgatory
	]\n\nK4LT\, a Berlin-based solo project\, delivers a dark\, multi-layered 
	fusion of\nAlternative\, Post-Punk\, and Darkwave\, drawing influences fro
	m Protomartyr\,\nBurial\, and Radiohead. Following the 2021 debut album „E
	ndgame" and\ninternational recognition for singles like “LPCD” and “This R
	oom\,” K4LT has been\npraised for emotional depth and shadowy\, introspect
	ive soundscapes. His live\nshows are known for their intensity\, blending 
	melancholic soundscapes with an\nemotionally charged stage presence.\n\nBa
	ndcamp: https://k4lt.bandcamp.com/track/don-t-ask-whats-going-on-sweetness
	\n[https://k4lt.bandcamp.com/track/don-t-ask-whats-going-on-sweetness]
URL:https://devent.cz/event/scattered-purgatory-guruguru-brain-k4lt
LOCATION:Neue Zukunft - Alt-Stralau 68\, 10245 Berlin
STATUS:CONFIRMED
CATEGORIES:diy,berlin,experimental,krautrock,experimental electronic,darkwa
	ve,psychedelic
X-ALT-DESC;FMTTYPE=text/html:<p>Scattered Purgatory</p><p>Scattered Purgato
	ry is an experimental project from Taiwan operating at the intersection of
	 noise, industrial textures, and ritual-driven sound. Their work unfolds a
	s dense, immersive compositions that blur the line between confrontation a
	nd contemplation.</p><p>Rooted in themes of collapse, renewal, and altered
	 states, the project channels a raw, almost physical intensity while maint
	aining a hypnotic undercurrent. Harsh sonic fragments collide with repetit
	ive structures, creating a sense of movement that feels both disorienting 
	and meditative.<br><br>Bandcamp: <a target="_blank" href="https://scattere
	dpurgatorygggb.bandcamp.com/album/post-purgatory">https://scatteredpurgato
	rygggb.bandcamp.com/album/post-purgatory</a></p><p>K4LT, a Berlin-based so
	lo project, delivers a dark, multi-layered fusion of Alternative, Post-Pun
	k, and Darkwave, drawing influences from Protomartyr, Burial, and Radiohea
	d. Following the 2021 debut album „Endgame" and international recognition 
	for singles like “LPCD” and “This Room,” K4LT has been praised for emotion
	al depth and shadowy, introspective soundscapes. His live shows are known 
	for their intensity, blending melancholic soundscapes with an emotionally 
	charged stage presence.<br><br>Bandcamp: <a target="_blank" href="https://
	k4lt.bandcamp.com/track/don-t-ask-whats-going-on-sweetness">https://k4lt.b
	andcamp.com/track/don-t-ask-whats-going-on-sweetness</a></p>
BEGIN:VALARM
ACTION:DISPLAY
DESCRIPTION:Scattered Purgatory (Guruguru Brain) / K4LT
TRIGGER:-PT1H
END:VALARM
END:VEVENT
END:VCALENDAR
