BEGIN:VCALENDAR
VERSION:2.0
CALSCALE:GREGORIAN
PRODID:adamgibbons/ics
METHOD:PUBLISH
X-PUBLISHED-TTL:PT1H
BEGIN:VEVENT
UID:2337@devent.cz
SUMMARY:Uni im Rathaus - Anpassung an den Klimawandel – aber wie?
DTSTAMP:20260421T134741Z
DTSTART:20260421T160000Z
DTEND:20260421T173000Z
DESCRIPTION:Anpassung an den Klimawandel ist überall notwendig\, da die\nTr
	eibhausgasemissionen weiter steigen. Die Wissenschaft zeigt uns jedoch\, d
	ass\nunsere Anpassungsfähigkeit in einer wärmeren Welt Grenzen hat.\n\nDr.
	 Lisa Schipper ist Professorin für Geographische Entwicklungsforschung an 
	der\nUni Bonn. Sie beschreibt die Debatten in der Klimaanpassungsforschung
	 und\n-politik und skizziert die wichtigsten konzeptionellen und praktisch
	en\nHerausforderungen\, die bewältigt werden müssen\, um eine widerstandsf
	ähige Welt\nzu gewährleisten.
URL:https://devent.cz/event/uni-im-rathaus-anpassung-an-den-klimawandel-abe
	r-wie
LOCATION:Bonn\, Altes Rathaus\, Gobelinsaal - Am Markt\, 53111 Bonn
STATUS:CONFIRMED
CATEGORIES:Bonn,Bonnjetzt,kostenlos,Klima,Klimawandel,Uni im Rathaus
X-ALT-DESC;FMTTYPE=text/html:<p>Anpassung an den Klimawandel ist überall no
	twendig, da die Treibhausgasemissionen weiter steigen. Die Wissenschaft ze
	igt uns jedoch, dass unsere Anpassungsfähigkeit in einer wärmeren Welt Gre
	nzen hat.</p><p>Dr. Lisa Schipper ist Professorin für Geographische Entwic
	klungsforschung an der Uni Bonn. Sie beschreibt die Debatten in der Klimaa
	npassungsforschung und -politik und skizziert die wichtigsten konzeptionel
	len und praktischen Herausforderungen, die bewältigt werden müssen, um ein
	e widerstandsfähige Welt zu gewährleisten.</p>
BEGIN:VALARM
ACTION:DISPLAY
DESCRIPTION:Uni im Rathaus - Anpassung an den Klimawandel – aber wie?
TRIGGER:-PT1H
END:VALARM
END:VEVENT
END:VCALENDAR
