BEGIN:VCALENDAR
VERSION:2.0
CALSCALE:GREGORIAN
PRODID:adamgibbons/ics
METHOD:PUBLISH
X-PUBLISHED-TTL:PT1H
BEGIN:VEVENT
UID:2353@devent.cz
SUMMARY:Vzpurné Brno 8#: Všecko živé sbratřit. Architektonicko-historická p
	rocházka s příběhem
DTSTAMP:20260422T190811Z
DTSTART:20260425T120000Z
DTEND:20260425T140000Z
DESCRIPTION:Zveme vás na osmou komentovanou procházku Vzpurným Brnem.  \n\n
	Tentokrát se zaměříme na řešení nedostupného bydlení v meziválečné době a\
	npřipomeneme si brněnského rodáka Františka Halase.\n\nVšecko živé sbratři
	t. Architektonicko-historická procházka s příběhem \n\nSraz: U památníku d
	ělnických stávek v parčíku u ulice Tkalcovská (u Alberta)\n\nTrasa je bezb
	ariérová. Po chodnících půjdeme ze Zábrzdovic na Náměstí republiky\nv Huso
	vicích. \n\nPrvní částí procházky nás provede kunsthistorik Michal Kolář\,
	 který nás přenese\ndo prostředí brněnského života nižších tříd 20. a 30. 
	let. Procházkou po\nmeziválečně výstavbě přístupného bydlení dojdeme z Cej
	lu do Husovic a na Náměstí\nRepubliky nám Dominika Šindelková povypráví o 
	Františku Halasovi\, jež přímo zde\nvyrůstal v rodině textilního dělníka p
	očátkem 20. století - to ho zásadně\novlivnilo i jeho víru v socialisticko
	u budoucnost\, jež ho provázela celým\nživotem a protkávala všechna jeho p
	ůsobení.
URL:https://devent.cz/event/vzpurne-brno-8-vsecko-zive-sbratrit-architekton
	icko-historicka-prochazka-s-pribehem
LOCATION:Památník dělnických stávek - Tkalcovská\, Brno
STATUS:CONFIRMED
CATEGORIES:poetry,history,socialism,labor,working class,levá fronta,communi
	sm,walk,kultura
X-ALT-DESC;FMTTYPE=text/html:<p>Zveme vás na osmou komentovanou procházku&n
	bsp;<strong>Vzpurným Brnem.&nbsp;</strong>&nbsp;</p><p>Tentokrát se zaměří
	me na řešení nedostupného bydlení&nbsp;v meziválečné době a připomeneme si
	 brněnského rodáka Františka Halase.<br><br><strong>Všecko živé sbratřit. 
	Architektonicko-historická procházka s příběhem&nbsp;</strong></p><p>Sraz:
	 U památníku dělnických stávek v parčíku u ulice Tkalcovská (u Alberta)</p
	><p>Trasa je bezbariérová. Po chodnících půjdeme ze Zábrzdovic&nbsp;na Nám
	ěstí republiky v Husovicích.&nbsp;</p><p>První částí procházky nás provede
	 kunsthistorik <strong>Michal Kolář</strong>, který nás přenese do prostře
	dí brněnského života nižších tříd 20. a 30. let. Procházkou po meziválečně
	 výstavbě přístupného bydlení dojdeme z Cejlu do Husovic a na Náměstí Repu
	bliky nám <strong>Dominika Šindelková</strong> povypráví o <strong>Františ
	ku Halasovi</strong>, jež přímo zde vyrůstal v rodině textilního dělníka p
	očátkem 20. století - to ho zásadně ovlivnilo i jeho víru v socialistickou
	 budoucnost, jež ho provázela celým životem a protkávala všechna jeho půso
	bení.</p>
BEGIN:VALARM
ACTION:DISPLAY
DESCRIPTION:Vzpurné Brno 8#: Všecko živé sbratřit. Architektonicko-historic
	ká procházka s příběhem
TRIGGER:-PT1H
END:VALARM
END:VEVENT
END:VCALENDAR
