BEGIN:VCALENDAR
VERSION:2.0
CALSCALE:GREGORIAN
PRODID:adamgibbons/ics
METHOD:PUBLISH
X-PUBLISHED-TTL:PT1H
BEGIN:VEVENT
UID:1972@devent.cz
SUMMARY:Science Man (deranged hc-punk\, buffalo-ny) + Morgen Teuer Töten (s
	ynth-punk\, bln)
DTSTAMP:20260423T165036Z
DTSTART:20260423T170000Z
URL:https://devent.cz/event/science-man-deranged-hc-punk-buffalo-ny-morgen-
	teuer-toten-synth-punk-bln
LOCATION:Schokoladen - Ackerstraße 169\, 10115 Berlin
STATUS:CONFIRMED
CATEGORIES:berlin,diy,hardcore punk,post-punk,punk
END:VEVENT
BEGIN:VEVENT
UID:2239@devent.cz
SUMMARY:Pieuvre (post-punk\, bln\, rec release!) + Intro to Film Theory (lo
	fi-pop\, bln)
DTSTAMP:20260423T165036Z
DTSTART:20260424T170000Z
URL:https://devent.cz/event/pieuvre-post-punk-bln-rec-release-intro-to-film
	-theory-lofi-pop-bln
LOCATION:Schokoladen - Ackerstraße 169\, 10115 Berlin
STATUS:CONFIRMED
CATEGORIES:berlin,diy,indie,lofi,post-punk
END:VEVENT
BEGIN:VEVENT
UID:1775@devent.cz
SUMMARY:Telepathy + Fargo (instrumental post-metal/rock) @ Schokoladen
DTSTAMP:20260423T165036Z
DTSTART:20260429T170000Z
DTEND:20260429T200000Z
URL:https://devent.cz/event/telepathy-fargo-instrumental-post-metalrock-sch
	okoladen
LOCATION:Schokoladen - Ackerstraße 169\, 10115 Berlin
STATUS:CONFIRMED
CATEGORIES:berlin,diy,instrumental,post metal,post-rock
END:VEVENT
BEGIN:VEVENT
UID:2190@devent.cz
SUMMARY:LOCAL SUPPORT (hardcore\, bln) & GUM (punk)
DTSTAMP:20260423T165036Z
DTSTART:20260430T180000Z
DTEND:20260501T060000Z
URL:https://devent.cz/event/local-support-hardcore-bln-and-gum-punk
LOCATION:Schokoladen - Ackerstraße 169\, 10115 Berlin
STATUS:CONFIRMED
CATEGORIES:berlin,diy
END:VEVENT
BEGIN:VEVENT
UID:2304@devent.cz
SUMMARY:GUM TAKES TOOTH (exp electro wave noise\, uk/pt) + KeyMPi (experime
	ntal dub noise\, bln)
DTSTAMP:20260423T165036Z
DTSTART:20260501T170000Z
URL:https://devent.cz/event/gum-takes-tooth-exp-electro-wave-noise-ukpt-key
	mpi-experimental-dub-noise-bln
LOCATION:Schokoladen - Ackerstraße 169\, 10115 Berlin
STATUS:CONFIRMED
CATEGORIES:Dub,avant-punk,berlin,diy,experimental,noise,wave
END:VEVENT
BEGIN:VEVENT
UID:2316@devent.cz
SUMMARY:ITCHES (Be) & ANGEL CCAA (Köln)
DTSTAMP:20260423T165036Z
DTSTART:20260502T170000Z
URL:https://devent.cz/event/itches-be-and-angel-ccaa-koln
LOCATION:Schokoladen - Ackerstraße 169\, 10115 Berlin
STATUS:CONFIRMED
CATEGORIES:berlin,diy,hardcore punk,punk,punkrock
END:VEVENT
BEGIN:VEVENT
UID:1981@devent.cz
SUMMARY:OIRO + OK NEIN
DTSTAMP:20260423T165036Z
DTSTART:20260507T170000Z
DTEND:20260507T200000Z
URL:https://devent.cz/event/oiro-ok-nein
LOCATION:Schokoladen - Ackerstraße 169\, 10115 Berlin
STATUS:CONFIRMED
CATEGORIES:berlin,diy,punk
END:VEVENT
BEGIN:VEVENT
UID:2269@devent.cz
SUMMARY:REAL FARMER (post-punk/indie-rock\, nl) + PEPPI P. (garage/indie\, 
	bln)
DTSTAMP:20260423T165036Z
DTSTART:20260511T170000Z
URL:https://devent.cz/event/real-farmer-post-punkindie-rock-nl-peppi-p-gara
	geindie-bln
LOCATION:Schokoladen - Ackerstraße 169\, 10115 Berlin
STATUS:CONFIRMED
CATEGORIES:berlin,diy,garage,indie-rock,post-punk
END:VEVENT
BEGIN:VEVENT
UID:2234@devent.cz
SUMMARY:PUBLIC CIRCUIT
DTSTAMP:20260423T165036Z
DTSTART:20260524T170000Z
URL:https://devent.cz/event/public-circuit
LOCATION:Schokoladen - Ackerstraße 169\, 10115 Berlin
STATUS:CONFIRMED
CATEGORIES:berlin,diy,experimental,indie,post-punk
END:VEVENT
BEGIN:VEVENT
UID:1911@devent.cz
SUMMARY:EA80 [Schokoladen-Hofkonzert]
DTSTAMP:20260423T165036Z
DTSTART:20260808T160000Z
DTEND:20260808T200000Z
URL:https://devent.cz/event/ea80-schokoladen-hofkonzert
LOCATION:Schokoladen - Ackerstraße 169\, 10115 Berlin
STATUS:CONFIRMED
CATEGORIES:berlin,diy,punk
END:VEVENT
END:VCALENDAR
