BEGIN:VCALENDAR
VERSION:2.0
CALSCALE:GREGORIAN
PRODID:adamgibbons/ics
METHOD:PUBLISH
X-PUBLISHED-TTL:PT1H
BEGIN:VEVENT
UID:2123@devent.cz
SUMMARY:KVÍR KLUB (22. 4. o 19:00 h)
DTSTAMP:20260422T131835Z
DTSTART:20260422T170000Z
URL:https://devent.cz/event/kvir-klub-22-4-o-1900-h
GEO:48.124896500000006;17.114009621242925
LOCATION:kpBUNT - Jungmannova 16\, Bratislava
STATUS:CONFIRMED
CATEGORIES:Bratislava,queer
END:VEVENT
BEGIN:VEVENT
UID:2311@devent.cz
SUMMARY:Knižnica Ivana Iča Stodolu
DTSTAMP:20260422T131835Z
DTSTART:20260424T130000Z
DTEND:20260424T160000Z
URL:https://devent.cz/event/kniznica-ivana-ica-stodolu
GEO:48.124896500000006;17.114009621242925
LOCATION:kpBUNT - Jungmannova 16\, Bratislava
STATUS:CONFIRMED
CATEGORIES:
END:VEVENT
BEGIN:VEVENT
UID:2173@devent.cz
SUMMARY:CHLIEB A HRY (26. 4.\, 16:00 h)
DTSTAMP:20260422T131835Z
DTSTART:20260426T140000Z
URL:https://devent.cz/event/chlieb-a-hry-26-4-1600-h
GEO:48.124896500000006;17.114009621242925
LOCATION:kpBUNT - Jungmannova 16\, Bratislava
STATUS:CONFIRMED
CATEGORIES:Bratislava,deskovky,jídlo
END:VEVENT
END:VCALENDAR
