BEGIN:VCALENDAR
VERSION:2.0
CALSCALE:GREGORIAN
PRODID:adamgibbons/ics
METHOD:PUBLISH
X-PUBLISHED-TTL:PT1H
BEGIN:VEVENT
UID:1448@devent.cz
SUMMARY:Anarchistický festival knihy
DTSTAMP:20260422T085626Z
DTSTART:20260523T100000Z
URL:https://devent.cz/event/anarchisticky-festival-knihy
GEO:50.09522225;14.436350595406378
LOCATION:Bike Jesus - Štvanice 1125\, Praha
STATUS:CONFIRMED
CATEGORIES:Bookfair,Praha
END:VEVENT
END:VCALENDAR
