BEGIN:VCALENDAR
VERSION:2.0
CALSCALE:GREGORIAN
PRODID:adamgibbons/ics
METHOD:PUBLISH
X-PUBLISHED-TTL:PT1H
BEGIN:VEVENT
UID:1460@devent.cz
SUMMARY:Fotbal proti rasismu 2026
DTSTAMP:20260422T090142Z
DTSTART:20260515T150000Z
DTEND:20260517T215900Z
URL:https://devent.cz/event/fotbal-proti-rasismu-2026
GEO:49.3624696;15.3844684
LOCATION:Rohozná u Jihlavy - Rohozná
STATUS:CONFIRMED
CATEGORIES:Jihlava,diskuze,festival,fotbal,hudba,jídlo
END:VEVENT
END:VCALENDAR
