BEGIN:VCALENDAR
VERSION:2.0
CALSCALE:GREGORIAN
PRODID:adamgibbons/ics
METHOD:PUBLISH
X-PUBLISHED-TTL:PT1H
BEGIN:VEVENT
UID:2344@devent.cz
SUMMARY:OpenStreetMap (OSM) - Stammtisch
DTSTAMP:20260421T231702Z
DTSTART:20260519T170000Z
DTEND:20260519T193000Z
URL:https://devent.cz/event/openstreetmap-osm-stammtisch-1
GEO:50.7069;7.12142
LOCATION:Dottys im BTHV - Christian-Miesen-Str. 1\, 53129 Bonn
STATUS:CONFIRMED
CATEGORIES:Bonn,Bonnjetzt
END:VEVENT
END:VCALENDAR
