BEGIN:VCALENDAR
VERSION:2.0
CALSCALE:GREGORIAN
PRODID:adamgibbons/ics
METHOD:PUBLISH
X-PUBLISHED-TTL:PT1H
BEGIN:VEVENT
UID:2345@devent.cz
SUMMARY:Cryptoparty
DTSTAMP:20260421T232054Z
DTSTART:20260519T160000Z
URL:https://devent.cz/event/cryptoparty
GEO:50.7407;7.09234
LOCATION:Frauenmuseum - 10\, Im Krausfeld\, Altstadt\, Nordstadt\, Stadtbez
	irk Bonn\, Bonn\, Nordrhein-Westfalen\, 53111\, Deutschland
STATUS:CONFIRMED
CATEGORIES:Bonn,Bonnjetzt
END:VEVENT
END:VCALENDAR
