BEGIN:VCALENDAR
VERSION:2.0
CALSCALE:GREGORIAN
PRODID:adamgibbons/ics
METHOD:PUBLISH
X-PUBLISHED-TTL:PT1H
BEGIN:VEVENT
UID:2237@devent.cz
SUMMARY:Zborovanje - skupnostni eksperimentalni ne-zbor
DTSTAMP:20260421T024411Z
DTSTART:20260426T160000Z
DTEND:20260426T180000Z
URL:https://devent.cz/event/zborovanje-skupnostni-eksperimentalni-ne-zbor-2
GEO:46.0552853;14.4920178
LOCATION:Švicarija - 4\, Pod turnom\, Vrtača\, Četrtna skupnost Center\, Lj
	ubljana\, Upravna Enota Ljubljana\, 1132\, Slovenija
STATUS:CONFIRMED
CATEGORIES:Workshop,ZBOR,jam session,zborovanje
END:VEVENT
BEGIN:VEVENT
UID:2238@devent.cz
SUMMARY:Zborovanje - skupnostni eksperimentalni ne-zbor
DTSTAMP:20260421T024411Z
DTSTART:20260503T160000Z
DTEND:20260503T180000Z
URL:https://devent.cz/event/zborovanje-skupnostni-eksperimentalni-ne-zbor-4
GEO:46.0552853;14.4920178
LOCATION:Švicarija - 4\, Pod turnom\, Vrtača\, Četrtna skupnost Center\, Lj
	ubljana\, Upravna Enota Ljubljana\, 1132\, Slovenija
STATUS:CONFIRMED
CATEGORIES:Workshop,ZBOR,jam session,zborovanje
END:VEVENT
END:VCALENDAR
