BEGIN:VCALENDAR
VERSION:2.0
CALSCALE:GREGORIAN
PRODID:adamgibbons/ics
METHOD:PUBLISH
X-PUBLISHED-TTL:PT1H
BEGIN:VEVENT
UID:2299@devent.cz
SUMMARY:Přírodu škrtnou nelze
DTSTAMP:20260420T122056Z
DTSTART:20260425T123000Z
DTEND:20260425T140000Z
URL:https://devent.cz/event/prirodu-skrtnou-nelze
GEO:49.8433929;18.2915084
LOCATION:Komenského sady - Komenského sady\, Sadová\, Moravská Ostrava
STATUS:CONFIRMED
CATEGORIES:
END:VEVENT
END:VCALENDAR
