BEGIN:VCALENDAR
VERSION:2.0
CALSCALE:GREGORIAN
PRODID:adamgibbons/ics
METHOD:PUBLISH
X-PUBLISHED-TTL:PT1H
BEGIN:VEVENT
UID:2331@devent.cz
SUMMARY:Sonic Poison + Unearthly Rites
DTSTAMP:20260420T231528Z
DTSTART:20260429T180000Z
DTEND:20260429T215500Z
URL:https://devent.cz/event/sonic-poison-unearthly-rites
LOCATION:Köpi - ask a punk
STATUS:CONFIRMED
CATEGORIES:Death Metal // Grindcore // Finland,berlin,diy
END:VEVENT
END:VCALENDAR
