BEGIN:VCALENDAR
VERSION:2.0
CALSCALE:GREGORIAN
PRODID:adamgibbons/ics
METHOD:PUBLISH
X-PUBLISHED-TTL:PT1H
BEGIN:VEVENT
UID:2338@devent.cz
SUMMARY:KI und Kolonialismus - Wer zahlt den Preis für unseren Fortschritt?
DTSTAMP:20260421T184624Z
DTSTART:20260422T170000Z
DTEND:20260422T183000Z
URL:https://devent.cz/event/ki-und-kolonialismus-wer-zahlt-den-preis-fur-un
	seren-fortschritt
LOCATION:Kirchenpavillon\, Kaiserplatz 1 a\, 53113 Bonn - Kaiserplatz 1 a\,
	 53113 Bonn
STATUS:CONFIRMED
CATEGORIES:Bonn,Bonnjetzt,kostenlos
END:VEVENT
END:VCALENDAR
