BEGIN:VCALENDAR
VERSION:2.0
CALSCALE:GREGORIAN
PRODID:adamgibbons/ics
METHOD:PUBLISH
X-PUBLISHED-TTL:PT1H
BEGIN:VEVENT
UID:2334@devent.cz
SUMMARY:Plusko+ pofely
DTSTAMP:20260420T232311Z
DTSTART:20260427T163000Z
DTEND:20260427T193000Z
URL:https://devent.cz/event/plusko-pofely-2
GEO:49.2027317;16.6110428
LOCATION:Tři Ocásci - třída Kpt. Jaroše 1935/18\, Brno
STATUS:CONFIRMED
CATEGORIES:Brno,English-friendly,Pofel,komunita,lgbtq+,queer,trans
END:VEVENT
END:VCALENDAR
