BEGIN:VCALENDAR
VERSION:2.0
CALSCALE:GREGORIAN
PRODID:adamgibbons/ics
METHOD:PUBLISH
X-PUBLISHED-TTL:PT1H
BEGIN:VEVENT
UID:1790@devent.cz
SUMMARY:EuroPython 2026
DTSTAMP:20260420T090038Z
DTSTART:20260713T060000Z
DTEND:20260719T160000Z
URL:https://devent.cz/event/europython-2026
GEO:50.0479549;19.9314617
LOCATION:Poland\, Kraków\, ICE - 17\, Marii Konopnickiej\, Osiedle Podwawel
	skie\, Ludwinów\, Dębniki\, Kraków\, województwo małopolskie\, 30-302\, Po
	lska
STATUS:CONFIRMED
CATEGORIES:Python,english,in-person,open-source,programming
END:VEVENT
BEGIN:VEVENT
UID:1789@devent.cz
SUMMARY:PyCon CZ 2026
DTSTAMP:20260420T090038Z
DTSTART:20260925T060000Z
DTEND:20260927T160000Z
URL:https://devent.cz/event/pycon-cz-2026
GEO:49.7477415;13.3775249
LOCATION:Plzeň - Plzeň\, SO POÚ Plzeň\, SO ORP Plzeň\, okres Plzeň-město\, 
	Plzeňský kraj\, Jihozápad\, Česko
STATUS:CONFIRMED
CATEGORIES:Plzeň,Python,Pyvec,czech,english,in-person,open-source,programmi
	ng
END:VEVENT
END:VCALENDAR
