BEGIN:VCALENDAR
VERSION:2.0
CALSCALE:GREGORIAN
PRODID:adamgibbons/ics
METHOD:PUBLISH
X-PUBLISHED-TTL:PT1H
BEGIN:VEVENT
UID:2358@devent.cz
SUMMARY:Landesjugendzirkus - Premiere UNLÖ?BAR - 6 Artistinnen aus Bonn
DTSTAMP:20260423T132646Z
DTSTART:20260426T130000Z
DTEND:20260426T143000Z
URL:https://devent.cz/event/landesjugendzirkus-premiere-unlobar-6-artistinn
	en-aus-bonn
GEO:50.727;7.10175
LOCATION:Clara-Schumann-Gymnasium Aula - 14\, Loestraße\, Südstadt\, Stadtb
	ezirk Bonn\, Bonn\, Nordrhein-Westfalen\, 53113\, Deutschland
STATUS:CONFIRMED
CATEGORIES:Bonn,Bonnjetzt,Landesjugendzirkus,Tanz,Theater,Zirkus,performanc
	e
END:VEVENT
BEGIN:VEVENT
UID:2208@devent.cz
SUMMARY:„LUNA - Im Tanz der Mondmeere“ - Ein inklusives Projekt des Communi
	ty Dance Bonn e.V.
DTSTAMP:20260423T132646Z
DTSTART:20260620T170000Z
DTEND:20260620T190000Z
URL:https://devent.cz/event/luna-im-tanz-der-mondmeere-ein-inklusives-proje
	kt-des-community-dance-bonn-ev
LOCATION:Forum der Kunst- & Ausstellungshalle der BRD\, Bonn - Helmut-Kohl-
	Allee 4\, 53113 Bonn Bonn
STATUS:CONFIRMED
CATEGORIES:Bonn,Bonnjetzt,Tanz,community
END:VEVENT
BEGIN:VEVENT
UID:2209@devent.cz
SUMMARY:„LUNA - Im Tanz der Mondmeere“ - Ein inklusives Projekt des Communi
	ty Dance Bonn e.V.
DTSTAMP:20260423T132646Z
DTSTART:20260621T160000Z
DTEND:20260621T190000Z
URL:https://devent.cz/event/luna-im-tanz-der-mondmeere-ein-inklusives-proje
	kt-des-community-dance-bonn-ev-1
LOCATION:Forum der Kunst- & Ausstellungshalle der BRD\, Bonn - Helmut-Kohl-
	Allee 4\, 53113 Bonn Bonn
STATUS:CONFIRMED
CATEGORIES:Bonn,Bonnjetzt,Tanz,community
END:VEVENT
END:VCALENDAR
