BEGIN:VCALENDAR
VERSION:2.0
CALSCALE:GREGORIAN
PRODID:adamgibbons/ics
METHOD:PUBLISH
X-PUBLISHED-TTL:PT1H
BEGIN:VEVENT
UID:2323@devent.cz
SUMMARY:Dekospot
DTSTAMP:20260425T142120Z
DTSTART:20260426T140000Z
DTEND:20260426T195000Z
URL:https://devent.cz/event/dekospot-1
GEO:50.0651134;14.4257885
LOCATION:Trhlina - Jaromírova 9\, Praha 2
STATUS:CONFIRMED
CATEGORIES:Infoshop,Praha,Trhlina,dekonstrukce,queer
END:VEVENT
END:VCALENDAR
