BEGIN:VCALENDAR
VERSION:2.0
CALSCALE:GREGORIAN
PRODID:adamgibbons/ics
METHOD:PUBLISH
X-PUBLISHED-TTL:PT1H
BEGIN:VEVENT
UID:2357@devent.cz
SUMMARY:Benefiční večeře pro Solidrones vol. 9
DTSTAMP:20260423T040717Z
DTSTART:20260429T160000Z
DTEND:20260429T190000Z
URL:https://devent.cz/event/beneficni-vecere-pro-solidrones-vol-9
GEO:50.1038024;14.4435507
LOCATION:Autonomní centrum 254 - Argentinská 18\, Praha 7 Holešovice
STATUS:CONFIRMED
CATEGORIES:Praha,benefice,blešák,jídlo,solidrones
END:VEVENT
END:VCALENDAR
