BEGIN:VCALENDAR
VERSION:2.0
CALSCALE:GREGORIAN
PRODID:adamgibbons/ics
METHOD:PUBLISH
X-PUBLISHED-TTL:PT1H
BEGIN:VEVENT
UID:2285@devent.cz
SUMMARY:Antifašistický akční den
DTSTAMP:20260421T115555Z
DTSTART:20260425T120000Z
URL:https://devent.cz/event/antifasisticky-akcni-den
GEO:50.1038024;14.4435507
LOCATION:Autonomní centrum 254 - Argentinská 18\, Praha 7 Holešovice
STATUS:CONFIRMED
CATEGORIES:Praha,antifašismus,diskuze,jídlo,kresba,malba,čtení
END:VEVENT
END:VCALENDAR
