BEGIN:VCALENDAR
VERSION:2.0
CALSCALE:GREGORIAN
PRODID:adamgibbons/ics
METHOD:PUBLISH
X-PUBLISHED-TTL:PT1H
BEGIN:VEVENT
UID:1972@devent.cz
SUMMARY:Science Man (deranged hc-punk\, buffalo-ny) + Morgen Teuer Töten (s
	ynth-punk\, bln)
DTSTAMP:20260423T164337Z
DTSTART:20260423T170000Z
URL:https://devent.cz/event/science-man-deranged-hc-punk-buffalo-ny-morgen-
	teuer-toten-synth-punk-bln
LOCATION:Schokoladen - Ackerstraße 169\, 10115 Berlin
STATUS:CONFIRMED
CATEGORIES:berlin,diy,hardcore punk,post-punk,punk
END:VEVENT
BEGIN:VEVENT
UID:2183@devent.cz
SUMMARY:Ayucaba + Schirche Oide + Mundo en Guerra
DTSTAMP:20260423T164337Z
DTSTART:20260423T180000Z
URL:https://devent.cz/event/ayucaba-schirche-oide-mundo-en-guerra-1
LOCATION:ask a punk - ask a punk
STATUS:CONFIRMED
CATEGORIES:berlin,diy,hardcore punk,punk,raw punk
END:VEVENT
BEGIN:VEVENT
UID:1696@devent.cz
SUMMARY:FAZE + MORAL END + R.O.S.A. + SPIXE
DTSTAMP:20260423T164337Z
DTSTART:20260424T170000Z
URL:https://devent.cz/event/faze-moral-end-rosa-spixe
LOCATION:Neue Zukunft - Alt-Stralau 68\, 10245 Berlin
STATUS:CONFIRMED
CATEGORIES:berlin,diy,hardcore punk,punk
END:VEVENT
BEGIN:VEVENT
UID:2280@devent.cz
SUMMARY:OOG BOGO (LA) & BUBBLE WRAP TRAP (TLV)
DTSTAMP:20260423T164337Z
DTSTART:20260424T170000Z
URL:https://devent.cz/event/oog-bogo-la-and-bubble-wrap-trap-tlv
LOCATION:loge. - Kinzigstraße 9\, 10247 Berlin
STATUS:CONFIRMED
CATEGORIES:berlin,diy,experimental,indie,post-punk,psychedelic rock,punk,pu
	nkrock
END:VEVENT
BEGIN:VEVENT
UID:2210@devent.cz
SUMMARY:NÃO + ELECTRIC MASOCHIST + TURBIO FUTURO
DTSTAMP:20260423T164337Z
DTSTART:20260424T180000Z
URL:https://devent.cz/event/nao-electric-masochist-turbio-futuro
LOCATION:Rummelplatz - Gürtelstr.666
STATUS:CONFIRMED
CATEGORIES:Hardcore,berlin,diy,hardcore punk,punk
END:VEVENT
BEGIN:VEVENT
UID:2095@devent.cz
SUMMARY:Decentralized Consensus [BASS.BREAKS.CORE+PUNK]
DTSTAMP:20260423T164337Z
DTSTART:20260424T190000Z
DTEND:20260425T020000Z
URL:https://devent.cz/event/decentralized-consensus-bassbreakscorepunk
LOCATION:Nomad 36 - Muzaffer İzgü Sk. No:26\, 35220\, Alsancak\, Konak\, İz
	mir - Türkiye
STATUS:CONFIRMED
CATEGORIES:Hardcore,breakcore,dj-sets,dnb,freetekno,hardcore punk,hardstyle
	,izmir,performance art,punk,skacore,uncivilization,underground,visuals,zin
	es
END:VEVENT
BEGIN:VEVENT
UID:2321@devent.cz
SUMMARY:SuperCheri + Garrrot
DTSTAMP:20260423T164337Z
DTSTART:20260425T070000Z
DTEND:20260425T095500Z
URL:https://devent.cz/event/supercheri-garrrot
LOCATION:Grüner Salon Volksbühne - Linienstraße 227\, 10178 Berlin
STATUS:CONFIRMED
CATEGORIES:berlin,diy,post-punk,punk
END:VEVENT
BEGIN:VEVENT
UID:2242@devent.cz
SUMMARY:Briefbombe + Fake Account + Ted Kastanzky
DTSTAMP:20260423T164337Z
DTSTART:20260425T170000Z
URL:https://devent.cz/event/briefbombe-fake-account-ted-kastanzky
LOCATION:ask a punk - ask a punk
STATUS:CONFIRMED
CATEGORIES:berlin,diy,hardcore punk,powerviolence,punk
END:VEVENT
BEGIN:VEVENT
UID:2281@devent.cz
SUMMARY:PIE O MY (TLV) & PEITSCHE (BLN)
DTSTAMP:20260423T164337Z
DTSTART:20260425T170000Z
URL:https://devent.cz/event/pie-o-my-tlv-and-peitsche-bln
LOCATION:loge. - Kinzigstraße 9\, 10247 Berlin
STATUS:CONFIRMED
CATEGORIES:berlin,diy,experimental,indie,punk,punkrock
END:VEVENT
BEGIN:VEVENT
UID:2182@devent.cz
SUMMARY:LAS MIGRAÑAS + ULTRABONUS + JEJEJE
DTSTAMP:20260423T164337Z
DTSTART:20260425T180000Z
URL:https://devent.cz/event/las-migranas-ultrabonus-jejeje
LOCATION:ask a punk - ask a punk
STATUS:CONFIRMED
CATEGORIES:Alternative,berlin,diy,experimental,flowerpunk,indie,post-punk,p
	unk
END:VEVENT
BEGIN:VEVENT
UID:2302@devent.cz
SUMMARY:Pendejo ss + Catastrophic Misanthropic + Võru
DTSTAMP:20260423T164337Z
DTSTART:20260428T190000Z
DTEND:20260429T100000Z
URL:https://devent.cz/event/pendejo-ss-catastrophic-misanthropic-voru
LOCATION:ask a punk - ask a punk
STATUS:CONFIRMED
CATEGORIES:berlin,diy,hardcore punk,punk,punkrock
END:VEVENT
BEGIN:VEVENT
UID:2181@devent.cz
SUMMARY:LÖRI + LETTERBOMBS + ONLY
DTSTAMP:20260423T164337Z
DTSTART:20260430T170000Z
URL:https://devent.cz/event/lori-letterbombs-only
LOCATION:ask a punk - ask a punk
STATUS:CONFIRMED
CATEGORIES:Screamo,berlin,diy,emoviolence,hardcore punk,post-hardcore,punk
END:VEVENT
BEGIN:VEVENT
UID:2316@devent.cz
SUMMARY:ITCHES (Be) & ANGEL CCAA (Köln)
DTSTAMP:20260423T164337Z
DTSTART:20260502T170000Z
URL:https://devent.cz/event/itches-be-and-angel-ccaa-koln
LOCATION:Schokoladen - Ackerstraße 169\, 10115 Berlin
STATUS:CONFIRMED
CATEGORIES:berlin,diy,hardcore punk,punk,punkrock
END:VEVENT
BEGIN:VEVENT
UID:2244@devent.cz
SUMMARY:Bad Breeding + Klonns + Zenocide
DTSTAMP:20260423T164337Z
DTSTART:20260503T173000Z
URL:https://devent.cz/event/bad-breeding-klonns-zenocide
LOCATION:Cassiopeia - Revaler Str. 99\, 10245 Berlin
STATUS:CONFIRMED
CATEGORIES:berlin,diy,hardcore punk,punk
END:VEVENT
BEGIN:VEVENT
UID:1981@devent.cz
SUMMARY:OIRO + OK NEIN
DTSTAMP:20260423T164337Z
DTSTART:20260507T170000Z
DTEND:20260507T200000Z
URL:https://devent.cz/event/oiro-ok-nein
LOCATION:Schokoladen - Ackerstraße 169\, 10115 Berlin
STATUS:CONFIRMED
CATEGORIES:berlin,diy,punk
END:VEVENT
BEGIN:VEVENT
UID:2317@devent.cz
SUMMARY:PAL (U.S.) & UZIMOTO (Bln)
DTSTAMP:20260423T164337Z
DTSTART:20260507T170000Z
URL:https://devent.cz/event/pal-us-and-uzimoto-bln
LOCATION:K19 - Kreutziger Str. 19\, 10247 Berlin-Friedrichshain
STATUS:CONFIRMED
CATEGORIES:berlin,diy,experimental,post-punk,punk,punkrock
END:VEVENT
BEGIN:VEVENT
UID:2252@devent.cz
SUMMARY:Splizz // Mean // Highway Patrol // M.Fields
DTSTAMP:20260423T164337Z
DTSTART:20260508T173000Z
DTEND:20260508T220000Z
URL:https://devent.cz/event/splizz-mean-highway-patrol-mfields
LOCATION:ask a punk - ask a punk
STATUS:CONFIRMED
CATEGORIES:berlin,country,diy,new wave,post-punk,punk
END:VEVENT
BEGIN:VEVENT
UID:2271@devent.cz
SUMMARY:Rat Art\, Kostenfalle & Sid Dig Digger\, Solishow for Sabot Garden
DTSTAMP:20260423T164337Z
DTSTART:20260508T180000Z
URL:https://devent.cz/event/rat-art-kostenfalle-and-sid-dig-digger-solishow
	-for-sabot-garden
LOCATION:Fischladen - Ask a punk
STATUS:CONFIRMED
CATEGORIES:berlin,diy,experimental,hardcore punk,punk
END:VEVENT
BEGIN:VEVENT
UID:2243@devent.cz
SUMMARY:S.U.G.A.R. + The Gee Strings + The Inserts
DTSTAMP:20260423T164337Z
DTSTART:20260509T170000Z
URL:https://devent.cz/event/sugar-the-gee-strings-the-inserts
LOCATION:Neue Zukunft - Alt-Stralau 68\, 10245 Berlin
STATUS:CONFIRMED
CATEGORIES:berlin,diy,garage punk,punk,punk rock
END:VEVENT
BEGIN:VEVENT
UID:2318@devent.cz
SUMMARY:HYPER GAL (Jap) & IOCI (Bln) & NERF (Bln)
DTSTAMP:20260423T164337Z
DTSTART:20260509T190000Z
URL:https://devent.cz/event/hyper-gal-jap-and-ioci-bln-and-nerf-bln
LOCATION:Kast8nienk6ller - ask a punk
STATUS:CONFIRMED
CATEGORIES:berlin,diy,experimental,hardcore punk,post-punk,punk
END:VEVENT
BEGIN:VEVENT
UID:2072@devent.cz
SUMMARY:Hardcore-Punk: TIMExHEIST (USA)\, OFFSIDE (D)\, NERVE CENTER (INT)
DTSTAMP:20260423T164337Z
DTSTART:20260512T170000Z
URL:https://devent.cz/event/hardcore-punk-timexheist-usa-offside-d-nerve-ce
	nter-int
LOCATION:venue on bethaniendamm - ask a punk
STATUS:CONFIRMED
CATEGORIES:Hardcore,berlin,diy,hardcore punk,post-hardcore,punk,straightedg
	e
END:VEVENT
BEGIN:VEVENT
UID:1698@devent.cz
SUMMARY:ANOTHER WEEKEND IN THE GREY CITY - VOL.1
DTSTAMP:20260423T164337Z
DTSTART:20260515T170000Z
DTEND:20260517T215900Z
URL:https://devent.cz/event/another-weekend-in-the-grey-city-vol1
LOCATION:ask a punk - ask a punk
STATUS:CONFIRMED
CATEGORIES:berlin,diy,hardcore punk,punk
END:VEVENT
BEGIN:VEVENT
UID:2336@devent.cz
SUMMARY:Bull Brigade + Two Stories Away and Gate49
DTSTAMP:20260423T164337Z
DTSTART:20260523T170000Z
DTEND:20260523T200000Z
URL:https://devent.cz/event/bull-brigade-two-stories-away-and-gate49
LOCATION:Cassiopeia - Revaler Str. 99\, 10245 Berlin
STATUS:CONFIRMED
CATEGORIES:berlin,diy,hardcore punk,pop punk,punk
END:VEVENT
BEGIN:VEVENT
UID:2248@devent.cz
SUMMARY:WEIRDWAVES Festival
DTSTAMP:20260423T164337Z
DTSTART:20260529T040000Z
URL:https://devent.cz/event/weirdwaves-festival
LOCATION:Cassiopeia - Revaler Str. 99\, 10245 Berlin
STATUS:CONFIRMED
CATEGORIES:berlin,diy,post-punk,punk
END:VEVENT
BEGIN:VEVENT
UID:2021@devent.cz
SUMMARY:Paradise Must Be Nice 2026
DTSTAMP:20260423T164337Z
DTSTART:20260611T173000Z
DTEND:20260612T220000Z
URL:https://devent.cz/event/paradise-must-be-nice-2026
LOCATION:Berlin - Zwingli-Kirche\, Gedächtniskirche\, Neue Zukunft
STATUS:CONFIRMED
CATEGORIES:ambient,berlin,diy,experimental,noise,performance,punk
END:VEVENT
BEGIN:VEVENT
UID:2221@devent.cz
SUMMARY:Hacker + Industry + P.A.Z.
DTSTAMP:20260423T164337Z
DTSTART:20260616T170000Z
URL:https://devent.cz/event/hacker-industry-paz
LOCATION:ask a punk - ask a punk
STATUS:CONFIRMED
CATEGORIES:berlin,diy,hardcore punk,punk
END:VEVENT
BEGIN:VEVENT
UID:2324@devent.cz
SUMMARY:BAD BRIANS + THE REAL DEAL - Frustis Farewell Fest
DTSTAMP:20260423T164337Z
DTSTART:20260626T190000Z
DTEND:20260626T230000Z
URL:https://devent.cz/event/bad-brians-the-real-deal-frustis-farewell-fest
LOCATION:Wild at Heart - Wiener Straße 20\, 10999 Berlin
STATUS:CONFIRMED
CATEGORIES:berlin,diy,hardcore punk,punk
END:VEVENT
BEGIN:VEVENT
UID:2274@devent.cz
SUMMARY:Strung Out\, The Corps & We Will Fly
DTSTAMP:20260423T164337Z
DTSTART:20260703T170000Z
DTEND:20260703T203000Z
URL:https://devent.cz/event/strung-out-the-corps-and-we-will-fly
LOCATION:Cassiopeia - Revaler Str. 99\, 10245 Berlin
STATUS:CONFIRMED
CATEGORIES:berlin,diy,punk,punkrock,skate punk
END:VEVENT
BEGIN:VEVENT
UID:1911@devent.cz
SUMMARY:EA80 [Schokoladen-Hofkonzert]
DTSTAMP:20260423T164337Z
DTSTART:20260808T160000Z
DTEND:20260808T200000Z
URL:https://devent.cz/event/ea80-schokoladen-hofkonzert
LOCATION:Schokoladen - Ackerstraße 169\, 10115 Berlin
STATUS:CONFIRMED
CATEGORIES:berlin,diy,punk
END:VEVENT
BEGIN:VEVENT
UID:2273@devent.cz
SUMMARY:EA80
DTSTAMP:20260423T164337Z
DTSTART:20260809T170000Z
DTEND:20260809T203000Z
URL:https://devent.cz/event/ea80
LOCATION:Cassiopeia - Revaler Str. 99\, 10245 Berlin
STATUS:CONFIRMED
CATEGORIES:berlin,deutschpunk,diy,punk
END:VEVENT
BEGIN:VEVENT
UID:2258@devent.cz
SUMMARY:SEEIN RED + MÖRSER + RYTES
DTSTAMP:20260423T164337Z
DTSTART:20261031T183000Z
URL:https://devent.cz/event/seein-red-morser-rytes
LOCATION:across Willy Brandt Haus - Kreuzberg/ask a punk
STATUS:CONFIRMED
CATEGORIES:berlin,diy,grindcore,hardcore punk,punk
END:VEVENT
END:VCALENDAR
