BEGIN:VCALENDAR
VERSION:2.0
CALSCALE:GREGORIAN
PRODID:adamgibbons/ics
METHOD:PUBLISH
X-PUBLISHED-TTL:PT1H
BEGIN:VEVENT
UID:2280@devent.cz
SUMMARY:OOG BOGO (LA) & BUBBLE WRAP TRAP (TLV)
DTSTAMP:20260423T171010Z
DTSTART:20260424T170000Z
URL:https://devent.cz/event/oog-bogo-la-and-bubble-wrap-trap-tlv
LOCATION:loge. - Kinzigstraße 9\, 10247 Berlin
STATUS:CONFIRMED
CATEGORIES:berlin,diy,experimental,indie,post-punk,psychedelic rock,punk,pu
	nkrock
END:VEVENT
BEGIN:VEVENT
UID:2281@devent.cz
SUMMARY:PIE O MY (TLV) & PEITSCHE (BLN)
DTSTAMP:20260423T171010Z
DTSTART:20260425T170000Z
URL:https://devent.cz/event/pie-o-my-tlv-and-peitsche-bln
LOCATION:loge. - Kinzigstraße 9\, 10247 Berlin
STATUS:CONFIRMED
CATEGORIES:berlin,diy,experimental,indie,punk,punkrock
END:VEVENT
BEGIN:VEVENT
UID:2302@devent.cz
SUMMARY:Pendejo ss + Catastrophic Misanthropic + Võru
DTSTAMP:20260423T171010Z
DTSTART:20260428T190000Z
DTEND:20260429T100000Z
URL:https://devent.cz/event/pendejo-ss-catastrophic-misanthropic-voru
LOCATION:ask a punk - ask a punk
STATUS:CONFIRMED
CATEGORIES:berlin,diy,hardcore punk,punk,punkrock
END:VEVENT
BEGIN:VEVENT
UID:2316@devent.cz
SUMMARY:ITCHES (Be) & ANGEL CCAA (Köln)
DTSTAMP:20260423T171010Z
DTSTART:20260502T170000Z
URL:https://devent.cz/event/itches-be-and-angel-ccaa-koln
LOCATION:Schokoladen - Ackerstraße 169\, 10115 Berlin
STATUS:CONFIRMED
CATEGORIES:berlin,diy,hardcore punk,punk,punkrock
END:VEVENT
BEGIN:VEVENT
UID:2317@devent.cz
SUMMARY:PAL (U.S.) & UZIMOTO (Bln)
DTSTAMP:20260423T171010Z
DTSTART:20260507T170000Z
URL:https://devent.cz/event/pal-us-and-uzimoto-bln
LOCATION:K19 - Kreutziger Str. 19\, 10247 Berlin-Friedrichshain
STATUS:CONFIRMED
CATEGORIES:berlin,diy,experimental,post-punk,punk,punkrock
END:VEVENT
BEGIN:VEVENT
UID:2274@devent.cz
SUMMARY:Strung Out\, The Corps & We Will Fly
DTSTAMP:20260423T171010Z
DTSTART:20260703T170000Z
DTEND:20260703T203000Z
URL:https://devent.cz/event/strung-out-the-corps-and-we-will-fly
LOCATION:Cassiopeia - Revaler Str. 99\, 10245 Berlin
STATUS:CONFIRMED
CATEGORIES:berlin,diy,punk,punkrock,skate punk
END:VEVENT
END:VCALENDAR
